BEGIN:VCALENDAR
VERSION:2.0
PRODID:-//Paradise Farm Camps - ECPv6.15.18//NONSGML v1.0//EN
CALSCALE:GREGORIAN
METHOD:PUBLISH
X-WR-CALNAME:Paradise Farm Camps
X-ORIGINAL-URL:https://paradisefarmcamps.org
X-WR-CALDESC:Events for Paradise Farm Camps
REFRESH-INTERVAL;VALUE=DURATION:PT1H
X-Robots-Tag:noindex
X-PUBLISHED-TTL:PT1H
BEGIN:VTIMEZONE
TZID:UTC
BEGIN:STANDARD
TZOFFSETFROM:+0000
TZOFFSETTO:+0000
TZNAME:UTC
DTSTART:20250101T000000
END:STANDARD
END:VTIMEZONE
BEGIN:VEVENT
DTSTART;VALUE=DATE:20260622
DTEND;VALUE=DATE:20260627
DTSTAMP:20260423T103940
CREATED:20251125T155732Z
LAST-MODIFIED:20251125T164328Z
UID:1824-1782086400-1782518399@paradisefarmcamps.org
SUMMARY:Day Camp Week 1 - Legends of the Land
DESCRIPTION:
URL:https://paradisefarmcamps.org/event/day-camp-week-1-legends-of-the-land/
CATEGORIES:Day Camp
END:VEVENT
BEGIN:VEVENT
DTSTART;VALUE=DATE:20260629
DTEND;VALUE=DATE:20260703
DTSTAMP:20260423T103940
CREATED:20251125T155909Z
LAST-MODIFIED:20251125T164755Z
UID:1825-1782691200-1783036799@paradisefarmcamps.org
SUMMARY:Day Camp Week 2 - Gears & Gadgets
DESCRIPTION:
URL:https://paradisefarmcamps.org/event/day-camp-week-2-gears-gadgets/
CATEGORIES:Day Camp
END:VEVENT
BEGIN:VEVENT
DTSTART;VALUE=DATE:20260706
DTEND;VALUE=DATE:20260711
DTSTAMP:20260423T103940
CREATED:20251125T161310Z
LAST-MODIFIED:20251125T165259Z
UID:1832-1783296000-1783727999@paradisefarmcamps.org
SUMMARY:Day Camp Week 3 - Camp Flashback
DESCRIPTION:
URL:https://paradisefarmcamps.org/event/day-camp-week-3-camp-flashback/
CATEGORIES:Day Camp
END:VEVENT
BEGIN:VEVENT
DTSTART;VALUE=DATE:20260713
DTEND;VALUE=DATE:20260718
DTSTAMP:20260423T103940
CREATED:20251125T161408Z
LAST-MODIFIED:20251125T165259Z
UID:1833-1783900800-1784332799@paradisefarmcamps.org
SUMMARY:Day Camp Week 4 - Tournament of Champions
DESCRIPTION:
URL:https://paradisefarmcamps.org/event/day-camp-week-4-tournament-of-champions/
CATEGORIES:Day Camp
END:VEVENT
BEGIN:VEVENT
DTSTART;VALUE=DATE:20260720
DTEND;VALUE=DATE:20260725
DTSTAMP:20260423T103940
CREATED:20251125T161511Z
LAST-MODIFIED:20251125T165259Z
UID:1834-1784505600-1784937599@paradisefarmcamps.org
SUMMARY:Day Camp Week 5 - Camp at the Museum
DESCRIPTION:
URL:https://paradisefarmcamps.org/event/day-camp-week-5-camp-at-the-museum/
CATEGORIES:Day Camp
END:VEVENT
BEGIN:VEVENT
DTSTART;VALUE=DATE:20260727
DTEND;VALUE=DATE:20260801
DTSTAMP:20260423T103940
CREATED:20251125T161604Z
LAST-MODIFIED:20251125T165259Z
UID:1835-1785110400-1785542399@paradisefarmcamps.org
SUMMARY:Day Camp Week 6 - The Great Camp Caper
DESCRIPTION:
URL:https://paradisefarmcamps.org/event/day-camp-week-6-the-great-camp-caper/
CATEGORIES:Day Camp
END:VEVENT
BEGIN:VEVENT
DTSTART;VALUE=DATE:20260803
DTEND;VALUE=DATE:20260808
DTSTAMP:20260423T103940
CREATED:20251125T161712Z
LAST-MODIFIED:20251125T165259Z
UID:1836-1785715200-1786147199@paradisefarmcamps.org
SUMMARY:Day Camp Week 7 - Archers & Outlaws
DESCRIPTION:
URL:https://paradisefarmcamps.org/event/day-camp-week-7-archers-outlaws/
CATEGORIES:Day Camp
END:VEVENT
BEGIN:VEVENT
DTSTART;VALUE=DATE:20260810
DTEND;VALUE=DATE:20260815
DTSTAMP:20260423T103940
CREATED:20251125T161810Z
LAST-MODIFIED:20251125T165159Z
UID:1837-1786320000-1786751999@paradisefarmcamps.org
SUMMARY:Day Camp Week 8 - Adventures in Atlantis
DESCRIPTION:
URL:https://paradisefarmcamps.org/event/day-camp-week-8-adventures-in-atlantis/
CATEGORIES:Day Camp
END:VEVENT
END:VCALENDAR